BEGIN:VCALENDAR
VERSION:2.0
PRODID:-//Plaza de la Música - ECPv6.13.1//NONSGML v1.0//EN
CALSCALE:GREGORIAN
METHOD:PUBLISH
X-WR-CALNAME:Plaza de la Música
X-ORIGINAL-URL:https://plazadelamusica.com
X-WR-CALDESC:Eventos para Plaza de la Música
REFRESH-INTERVAL;VALUE=DURATION:PT1H
X-Robots-Tag:noindex
X-PUBLISHED-TTL:PT1H
BEGIN:VTIMEZONE
TZID:America/Argentina/Cordoba
BEGIN:STANDARD
TZOFFSETFROM:-0300
TZOFFSETTO:-0300
TZNAME:-03
DTSTART:20250101T000000
END:STANDARD
END:VTIMEZONE
BEGIN:VEVENT
DTSTART;TZID=America/Argentina/Cordoba:20251008T210000
DTEND;TZID=America/Argentina/Cordoba:20251008T233000
DTSTAMP:20260419T125122
CREATED:20250731T154451Z
LAST-MODIFIED:20250731T154451Z
UID:28666-1759957200-1759966200@plazadelamusica.com
SUMMARY:Experiencia Galería Inesperada - Morat
DESCRIPTION:Etiquetas:	\n		\n	Babasónicos\n	\n\n		\n				\n					\n				\n					\n		\n				\n			\n						\n				\n					\n			\n		\n				\n				\n				\n				\n							Babasonicos						\n				\n				\n				\n					\n			\n						\n		\n				\n				\n				\n				\n							La pregunta es: ¿Quién viene a @babasonicos el 30/04 a Plaza de la Música? 30 de Abril\, 21hsEntradas disponibles en Eden Entradas.Preventa Exclusiva NaranjaX por 48hs | Aprovecha las 4 cuotas sin interésPlaza de la Música\, Córdoba						\n				\n				\n				\n					\n			\n						\n		\n				\n				\n				\n				\n					\n			\n		\n				\n				\n				\n				\n			Comprar Tickets		\n				\n					\n		\n					\n		\n				\n						\n					\n			\n							\n		\n				\n			\n						\n				\n					\n			\n		\n				\n				\n					\n		\n					\n		\n				\n						\n					\n			\n						\n				\n					\n			\n		\n				\n				\n				\n				\n			Volver atrás
URL:https://plazadelamusica.com/agenda/experiencia-galeria-inesperada-morat/
LOCATION:Plaza de la Música\, Costanera esq. Mendoza\, Córdoba
CATEGORIES:Show
ATTACH;FMTTYPE=image/jpeg:https://plazadelamusica.com/wp-content/uploads/2025/07/MORAT-GALERIA_Mesa-de-trabajo-1-copia-7.jpg
END:VEVENT
BEGIN:VEVENT
DTSTART;TZID=America/Argentina/Cordoba:20251009T210000
DTEND;TZID=America/Argentina/Cordoba:20251009T233000
DTSTAMP:20260419T125122
CREATED:20250516T031720Z
LAST-MODIFIED:20250731T140058Z
UID:28515-1760043600-1760052600@plazadelamusica.com
SUMMARY:Morat
DESCRIPTION:Etiquetas:	\n		\n	Babasónicos\n	\n\n		\n				\n					\n				\n					\n		\n				\n			\n						\n				\n					\n			\n		\n				\n				\n				\n				\n							Babasonicos						\n				\n				\n				\n					\n			\n						\n		\n				\n				\n				\n				\n							La pregunta es: ¿Quién viene a @babasonicos el 30/04 a Plaza de la Música? 30 de Abril\, 21hsEntradas disponibles en Eden Entradas.Preventa Exclusiva NaranjaX por 48hs | Aprovecha las 4 cuotas sin interésPlaza de la Música\, Córdoba						\n				\n				\n				\n					\n			\n						\n		\n				\n				\n				\n				\n					\n			\n		\n				\n				\n				\n				\n			Comprar Tickets		\n				\n					\n		\n					\n		\n				\n						\n					\n			\n							\n		\n				\n			\n						\n				\n					\n			\n		\n				\n				\n					\n		\n					\n		\n				\n						\n					\n			\n						\n				\n					\n			\n		\n				\n				\n				\n				\n			Volver atrás
URL:https://plazadelamusica.com/agenda/morat/
LOCATION:Plaza de la Música\, Costanera esq. Mendoza\, Córdoba
CATEGORIES:Show
ATTACH;FMTTYPE=image/jpeg:https://plazadelamusica.com/wp-content/uploads/2025/05/MORAT_Mesa-de-trabajo-1-copia-7.jpg
END:VEVENT
BEGIN:VEVENT
DTSTART;TZID=America/Argentina/Cordoba:20251009T210000
DTEND;TZID=America/Argentina/Cordoba:20251009T233000
DTSTAMP:20260419T125122
CREATED:20250731T154527Z
LAST-MODIFIED:20250731T154527Z
UID:28669-1760043600-1760052600@plazadelamusica.com
SUMMARY:Experiencia Galería Inesperada - Morat
DESCRIPTION:Etiquetas:	\n		\n	Babasónicos\n	\n\n		\n				\n					\n				\n					\n		\n				\n			\n						\n				\n					\n			\n		\n				\n				\n				\n				\n							Babasonicos						\n				\n				\n				\n					\n			\n						\n		\n				\n				\n				\n				\n							La pregunta es: ¿Quién viene a @babasonicos el 30/04 a Plaza de la Música? 30 de Abril\, 21hsEntradas disponibles en Eden Entradas.Preventa Exclusiva NaranjaX por 48hs | Aprovecha las 4 cuotas sin interésPlaza de la Música\, Córdoba						\n				\n				\n				\n					\n			\n						\n		\n				\n				\n				\n				\n					\n			\n		\n				\n				\n				\n				\n			Comprar Tickets		\n				\n					\n		\n					\n		\n				\n						\n					\n			\n							\n		\n				\n			\n						\n				\n					\n			\n		\n				\n				\n					\n		\n					\n		\n				\n						\n					\n			\n						\n				\n					\n			\n		\n				\n				\n				\n				\n			Volver atrás
URL:https://plazadelamusica.com/agenda/experiencia-galeria-inesperada-morat-2/
LOCATION:Plaza de la Música\, Costanera esq. Mendoza\, Córdoba
CATEGORIES:Show
ATTACH;FMTTYPE=image/jpeg:https://plazadelamusica.com/wp-content/uploads/2025/07/MORAT-GALERIA_Mesa-de-trabajo-1-copia-7.jpg
END:VEVENT
BEGIN:VEVENT
DTSTART;TZID=America/Argentina/Cordoba:20251010T210000
DTEND;TZID=America/Argentina/Cordoba:20251010T233000
DTSTAMP:20260419T125122
CREATED:20250902T190127Z
LAST-MODIFIED:20250902T190127Z
UID:28672-1760130000-1760139000@plazadelamusica.com
SUMMARY:Ciro y Los Persas
DESCRIPTION:Etiquetas:	\n		\n	Babasónicos\n	\n\n		\n				\n					\n				\n					\n		\n				\n			\n						\n				\n					\n			\n		\n				\n				\n				\n				\n							Babasonicos						\n				\n				\n				\n					\n			\n						\n		\n				\n				\n				\n				\n							La pregunta es: ¿Quién viene a @babasonicos el 30/04 a Plaza de la Música? 30 de Abril\, 21hsEntradas disponibles en Eden Entradas.Preventa Exclusiva NaranjaX por 48hs | Aprovecha las 4 cuotas sin interésPlaza de la Música\, Córdoba						\n				\n				\n				\n					\n			\n						\n		\n				\n				\n				\n				\n					\n			\n		\n				\n				\n				\n				\n			Comprar Tickets		\n				\n					\n		\n					\n		\n				\n						\n					\n			\n							\n		\n				\n			\n						\n				\n					\n			\n		\n				\n				\n					\n		\n					\n		\n				\n						\n					\n			\n						\n				\n					\n			\n		\n				\n				\n				\n				\n			Volver atrás
URL:https://plazadelamusica.com/agenda/ciro-y-los-persas-2/
LOCATION:Plaza de la Música\, Costanera esq. Mendoza\, Córdoba
CATEGORIES:Show
ATTACH;FMTTYPE=image/jpeg:https://plazadelamusica.com/wp-content/uploads/2025/09/250619-Portadas-Fechas-Web_Mesa-de-trabajo-1-copia-7.jpg
END:VEVENT
BEGIN:VEVENT
DTSTART;TZID=America/Argentina/Cordoba:20251031T233000
DTEND;TZID=America/Argentina/Cordoba:20251031T233000
DTSTAMP:20260419T125122
CREATED:20250923T155650Z
LAST-MODIFIED:20250923T155650Z
UID:28696-1761953400-1761953400@plazadelamusica.com
SUMMARY:Bresh - Especial de Halloween
DESCRIPTION:Etiquetas:	\n		\n	Babasónicos\n	\n\n		\n				\n					\n				\n					\n		\n				\n			\n						\n				\n					\n			\n		\n				\n				\n				\n				\n							Babasonicos						\n				\n				\n				\n					\n			\n						\n		\n				\n				\n				\n				\n							La pregunta es: ¿Quién viene a @babasonicos el 30/04 a Plaza de la Música? 30 de Abril\, 21hsEntradas disponibles en Eden Entradas.Preventa Exclusiva NaranjaX por 48hs | Aprovecha las 4 cuotas sin interésPlaza de la Música\, Córdoba						\n				\n				\n				\n					\n			\n						\n		\n				\n				\n				\n				\n					\n			\n		\n				\n				\n				\n				\n			Comprar Tickets		\n				\n					\n		\n					\n		\n				\n						\n					\n			\n							\n		\n				\n			\n						\n				\n					\n			\n		\n				\n				\n					\n		\n					\n		\n				\n						\n					\n			\n						\n				\n					\n			\n		\n				\n				\n				\n				\n			Volver atrás
URL:https://plazadelamusica.com/agenda/bresh-especial-de-halloween/
LOCATION:Plaza de la Música\, Costanera esq. Mendoza\, Córdoba
CATEGORIES:Show
ATTACH;FMTTYPE=image/jpeg:https://plazadelamusica.com/wp-content/uploads/2025/09/250619-Portadas-Fechas-Web-bresh_Mesa-de-trabajo-1-copia-6.jpg
END:VEVENT
BEGIN:VEVENT
DTSTART;TZID=America/Argentina/Cordoba:20251114T210000
DTEND;TZID=America/Argentina/Cordoba:20251114T233000
DTSTAMP:20260419T125122
CREATED:20250923T153740Z
LAST-MODIFIED:20250923T153740Z
UID:28690-1763154000-1763163000@plazadelamusica.com
SUMMARY:Andrés Calamaro
DESCRIPTION:Etiquetas:	\n		\n	Babasónicos\n	\n\n		\n				\n					\n				\n					\n		\n				\n			\n						\n				\n					\n			\n		\n				\n				\n				\n				\n							Babasonicos						\n				\n				\n				\n					\n			\n						\n		\n				\n				\n				\n				\n							La pregunta es: ¿Quién viene a @babasonicos el 30/04 a Plaza de la Música? 30 de Abril\, 21hsEntradas disponibles en Eden Entradas.Preventa Exclusiva NaranjaX por 48hs | Aprovecha las 4 cuotas sin interésPlaza de la Música\, Córdoba						\n				\n				\n				\n					\n			\n						\n		\n				\n				\n				\n				\n					\n			\n		\n				\n				\n				\n				\n			Comprar Tickets		\n				\n					\n		\n					\n		\n				\n						\n					\n			\n							\n		\n				\n			\n						\n				\n					\n			\n		\n				\n				\n					\n		\n					\n		\n				\n						\n					\n			\n						\n				\n					\n			\n		\n				\n				\n				\n				\n			Volver atrás
URL:https://plazadelamusica.com/agenda/andres-calamaro-2/
LOCATION:Plaza de la Música\, Costanera esq. Mendoza\, Córdoba
CATEGORIES:Show
ATTACH;FMTTYPE=image/jpeg:https://plazadelamusica.com/wp-content/uploads/2025/09/CALAMARO_Mesa-de-trabajo-1-copia-6.jpg
END:VEVENT
BEGIN:VEVENT
DTSTART;TZID=America/Argentina/Cordoba:20251121T210000
DTEND;TZID=America/Argentina/Cordoba:20251121T233000
DTSTAMP:20260419T125122
CREATED:20250902T190653Z
LAST-MODIFIED:20250902T190653Z
UID:28675-1763758800-1763767800@plazadelamusica.com
SUMMARY:Trueno
DESCRIPTION:Etiquetas:	\n		\n	Babasónicos\n	\n\n		\n				\n					\n				\n					\n		\n				\n			\n						\n				\n					\n			\n		\n				\n				\n				\n				\n							Babasonicos						\n				\n				\n				\n					\n			\n						\n		\n				\n				\n				\n				\n							La pregunta es: ¿Quién viene a @babasonicos el 30/04 a Plaza de la Música? 30 de Abril\, 21hsEntradas disponibles en Eden Entradas.Preventa Exclusiva NaranjaX por 48hs | Aprovecha las 4 cuotas sin interésPlaza de la Música\, Córdoba						\n				\n				\n				\n					\n			\n						\n		\n				\n				\n				\n				\n					\n			\n		\n				\n				\n				\n				\n			Comprar Tickets		\n				\n					\n		\n					\n		\n				\n						\n					\n			\n							\n		\n				\n			\n						\n				\n					\n			\n		\n				\n				\n					\n		\n					\n		\n				\n						\n					\n			\n						\n				\n					\n			\n		\n				\n				\n				\n				\n			Volver atrás
URL:https://plazadelamusica.com/agenda/trueno-2/
LOCATION:Plaza de la Música\, Costanera esq. Mendoza\, Córdoba
CATEGORIES:Show
ATTACH;FMTTYPE=image/jpeg:https://plazadelamusica.com/wp-content/uploads/2025/09/250619-Portadas-Fechas-Web-trueno_Mesa-de-trabajo-1-copia-6.jpg
END:VEVENT
BEGIN:VEVENT
DTSTART;TZID=America/Argentina/Cordoba:20251213T200000
DTEND;TZID=America/Argentina/Cordoba:20251213T233000
DTSTAMP:20260419T125122
CREATED:20250923T155227Z
LAST-MODIFIED:20251211T150754Z
UID:28693-1765656000-1765668600@plazadelamusica.com
SUMMARY:Erreway
DESCRIPTION:Etiquetas:	\n		\n	Babasónicos\n	\n\n		\n				\n					\n				\n					\n		\n				\n			\n						\n				\n					\n			\n		\n				\n				\n				\n				\n							Babasonicos						\n				\n				\n				\n					\n			\n						\n		\n				\n				\n				\n				\n							La pregunta es: ¿Quién viene a @babasonicos el 30/04 a Plaza de la Música? 30 de Abril\, 21hsEntradas disponibles en Eden Entradas.Preventa Exclusiva NaranjaX por 48hs | Aprovecha las 4 cuotas sin interésPlaza de la Música\, Córdoba						\n				\n				\n				\n					\n			\n						\n		\n				\n				\n				\n				\n					\n			\n		\n				\n				\n				\n				\n			Comprar Tickets		\n				\n					\n		\n					\n		\n				\n						\n					\n			\n							\n		\n				\n			\n						\n				\n					\n			\n		\n				\n				\n					\n		\n					\n		\n				\n						\n					\n			\n						\n				\n					\n			\n		\n				\n				\n				\n				\n			Volver atrás
URL:https://plazadelamusica.com/agenda/erreway/
LOCATION:Plaza de la Música\, Costanera esq. Mendoza\, Córdoba
CATEGORIES:Show
ATTACH;FMTTYPE=image/jpeg:https://plazadelamusica.com/wp-content/uploads/2025/09/250619-Portadas-Fechas-Web_Mesa-de-trabajo-1-copia-7-1.jpg
END:VEVENT
BEGIN:VEVENT
DTSTART;TZID=America/Argentina/Cordoba:20260426T200000
DTEND;TZID=America/Argentina/Cordoba:20260426T233000
DTSTAMP:20260419T125122
CREATED:20251212T140953Z
LAST-MODIFIED:20251212T141406Z
UID:28721-1777233600-1777246200@plazadelamusica.com
SUMMARY:Dream Theater
DESCRIPTION:Etiquetas:	\n		\n	Babasónicos\n	\n\n		\n				\n					\n				\n					\n		\n				\n			\n						\n				\n					\n			\n		\n				\n				\n				\n				\n							Babasonicos						\n				\n				\n				\n					\n			\n						\n		\n				\n				\n				\n				\n							La pregunta es: ¿Quién viene a @babasonicos el 30/04 a Plaza de la Música? 30 de Abril\, 21hsEntradas disponibles en Eden Entradas.Preventa Exclusiva NaranjaX por 48hs | Aprovecha las 4 cuotas sin interésPlaza de la Música\, Córdoba						\n				\n				\n				\n					\n			\n						\n		\n				\n				\n				\n				\n					\n			\n		\n				\n				\n				\n				\n			Comprar Tickets		\n				\n					\n		\n					\n		\n				\n						\n					\n			\n							\n		\n				\n			\n						\n				\n					\n			\n		\n				\n				\n					\n		\n					\n		\n				\n						\n					\n			\n						\n				\n					\n			\n		\n				\n				\n				\n				\n			Volver atrás
URL:https://plazadelamusica.com/agenda/dream-theater/
LOCATION:Plaza de la Música\, Costanera esq. Mendoza\, Córdoba
CATEGORIES:Show
ATTACH;FMTTYPE=image/jpeg:https://plazadelamusica.com/wp-content/uploads/2025/12/Copy-of-Final-Approved-DT-Promo-1-IMG_5403-4-Color-Spotify.jpg
END:VEVENT
BEGIN:VEVENT
DTSTART;TZID=America/Argentina/Cordoba:20260514T200000
DTEND;TZID=America/Argentina/Cordoba:20260514T233000
DTSTAMP:20260419T125122
CREATED:20251212T144619Z
LAST-MODIFIED:20251212T144821Z
UID:28733-1778788800-1778801400@plazadelamusica.com
SUMMARY:Robert Plant
DESCRIPTION:Etiquetas:	\n		\n	Babasónicos\n	\n\n		\n				\n					\n				\n					\n		\n				\n			\n						\n				\n					\n			\n		\n				\n				\n				\n				\n							Babasonicos						\n				\n				\n				\n					\n			\n						\n		\n				\n				\n				\n				\n							La pregunta es: ¿Quién viene a @babasonicos el 30/04 a Plaza de la Música? 30 de Abril\, 21hsEntradas disponibles en Eden Entradas.Preventa Exclusiva NaranjaX por 48hs | Aprovecha las 4 cuotas sin interésPlaza de la Música\, Córdoba						\n				\n				\n				\n					\n			\n						\n		\n				\n				\n				\n				\n					\n			\n		\n				\n				\n				\n				\n			Comprar Tickets		\n				\n					\n		\n					\n		\n				\n						\n					\n			\n							\n		\n				\n			\n						\n				\n					\n			\n		\n				\n				\n					\n		\n					\n		\n				\n						\n					\n			\n						\n				\n					\n			\n		\n				\n				\n				\n				\n			Volver atrás
URL:https://plazadelamusica.com/agenda/robert-plant/
LOCATION:Plaza de la Música\, Costanera esq. Mendoza\, Córdoba
CATEGORIES:Show
ATTACH;FMTTYPE=image/jpeg:https://plazadelamusica.com/wp-content/uploads/2025/12/Saving-Grace-by-Tom-Oldham-.jpg
END:VEVENT
BEGIN:VEVENT
DTSTART;TZID=America/Argentina/Cordoba:20260515T200000
DTEND;TZID=America/Argentina/Cordoba:20260515T233000
DTSTAMP:20260419T125122
CREATED:20251211T195654Z
LAST-MODIFIED:20251212T182703Z
UID:28710-1778875200-1778887800@plazadelamusica.com
SUMMARY:No Te Va Gustar
DESCRIPTION:Etiquetas:	\n		\n	Babasónicos\n	\n\n		\n				\n					\n				\n					\n		\n				\n			\n						\n				\n					\n			\n		\n				\n				\n				\n				\n							Babasonicos						\n				\n				\n				\n					\n			\n						\n		\n				\n				\n				\n				\n							La pregunta es: ¿Quién viene a @babasonicos el 30/04 a Plaza de la Música? 30 de Abril\, 21hsEntradas disponibles en Eden Entradas.Preventa Exclusiva NaranjaX por 48hs | Aprovecha las 4 cuotas sin interésPlaza de la Música\, Córdoba						\n				\n				\n				\n					\n			\n						\n		\n				\n				\n				\n				\n					\n			\n		\n				\n				\n				\n				\n			Comprar Tickets		\n				\n					\n		\n					\n		\n				\n						\n					\n			\n							\n		\n				\n			\n						\n				\n					\n			\n		\n				\n				\n					\n		\n					\n		\n				\n						\n					\n			\n						\n				\n					\n			\n		\n				\n				\n				\n				\n			Volver atrás
URL:https://plazadelamusica.com/agenda/no-te-va-gustar-2/
LOCATION:Plaza de la Música\, Costanera esq. Mendoza\, Córdoba
CATEGORIES:Show
ATTACH;FMTTYPE=image/jpeg:https://plazadelamusica.com/wp-content/uploads/2025/12/NTVG-10553Ph_-Diego-Velazco-BW.jpg
END:VEVENT
END:VCALENDAR